BEGIN:VCALENDAR
VERSION:2.0
PRODID:-//St. Anthony of Padua Catholic Church - ECPv6.15.20//NONSGML v1.0//EN
CALSCALE:GREGORIAN
METHOD:PUBLISH
X-WR-CALNAME:St. Anthony of Padua Catholic Church
X-ORIGINAL-URL:https://stanthonysgvl.org
X-WR-CALDESC:Events for St. Anthony of Padua Catholic Church
REFRESH-INTERVAL;VALUE=DURATION:PT1H
X-Robots-Tag:noindex
X-PUBLISHED-TTL:PT1H
BEGIN:VTIMEZONE
TZID:America/New_York
BEGIN:DAYLIGHT
TZOFFSETFROM:-0500
TZOFFSETTO:-0400
TZNAME:EDT
DTSTART:20250309T070000
END:DAYLIGHT
BEGIN:STANDARD
TZOFFSETFROM:-0400
TZOFFSETTO:-0500
TZNAME:EST
DTSTART:20251102T060000
END:STANDARD
BEGIN:DAYLIGHT
TZOFFSETFROM:-0500
TZOFFSETTO:-0400
TZNAME:EDT
DTSTART:20260308T070000
END:DAYLIGHT
BEGIN:STANDARD
TZOFFSETFROM:-0400
TZOFFSETTO:-0500
TZNAME:EST
DTSTART:20261101T060000
END:STANDARD
BEGIN:DAYLIGHT
TZOFFSETFROM:-0500
TZOFFSETTO:-0400
TZNAME:EDT
DTSTART:20270314T070000
END:DAYLIGHT
BEGIN:STANDARD
TZOFFSETFROM:-0400
TZOFFSETTO:-0500
TZNAME:EST
DTSTART:20271107T060000
END:STANDARD
END:VTIMEZONE
BEGIN:VEVENT
DTSTART;TZID=America/New_York:20260220T170000
DTEND;TZID=America/New_York:20260220T190000
DTSTAMP:20260425T202906
CREATED:20260218T153756Z
LAST-MODIFIED:20260218T153756Z
UID:10000635-1771606800-1771614000@stanthonysgvl.org
SUMMARY:Annual Fish Fry
DESCRIPTION:Join us for our Annual Fish Frys! Feb. 20th\, 27th\, March 6th\, 13th\, 20th\, & 27th. All proceeds benefit St. Anthony Catholic School.
URL:https://stanthonysgvl.org/event/annual-fish-fry-2/2026-02-20/
LOCATION:Parish Social Hall\, 307 Gower St\, Greenville\, SC\, 29611\, United States
CATEGORIES:Highlight
ATTACH;FMTTYPE=image/jpeg:https://stanthonysgvl.org/wp-content/uploads/2025/03/fish-fry-st.-anthony.jpg
END:VEVENT
END:VCALENDAR