BEGIN:VCALENDAR
VERSION:2.0
PRODID:-//St. Anthony of Padua Catholic Church - ECPv6.15.20//NONSGML v1.0//EN
CALSCALE:GREGORIAN
METHOD:PUBLISH
X-ORIGINAL-URL:https://stanthonysgvl.org
X-WR-CALDESC:Events for St. Anthony of Padua Catholic Church
REFRESH-INTERVAL;VALUE=DURATION:PT1H
X-Robots-Tag:noindex
X-PUBLISHED-TTL:PT1H
BEGIN:VTIMEZONE
TZID:America/New_York
BEGIN:DAYLIGHT
TZOFFSETFROM:-0500
TZOFFSETTO:-0400
TZNAME:EDT
DTSTART:20250309T070000
END:DAYLIGHT
BEGIN:STANDARD
TZOFFSETFROM:-0400
TZOFFSETTO:-0500
TZNAME:EST
DTSTART:20251102T060000
END:STANDARD
BEGIN:DAYLIGHT
TZOFFSETFROM:-0500
TZOFFSETTO:-0400
TZNAME:EDT
DTSTART:20260308T070000
END:DAYLIGHT
BEGIN:STANDARD
TZOFFSETFROM:-0400
TZOFFSETTO:-0500
TZNAME:EST
DTSTART:20261101T060000
END:STANDARD
BEGIN:DAYLIGHT
TZOFFSETFROM:-0500
TZOFFSETTO:-0400
TZNAME:EDT
DTSTART:20270314T070000
END:DAYLIGHT
BEGIN:STANDARD
TZOFFSETFROM:-0400
TZOFFSETTO:-0500
TZNAME:EST
DTSTART:20271107T060000
END:STANDARD
END:VTIMEZONE
BEGIN:VEVENT
DTSTART;TZID=America/New_York:20260308T091500
DTEND;TZID=America/New_York:20260308T100000
DTSTAMP:20260425T185405
CREATED:20250129T222513Z
LAST-MODIFIED:20260224T154443Z
UID:10000365-1772961300-1772964000@stanthonysgvl.org
SUMMARY:Weekly Breakfast
DESCRIPTION:The St. Anthonys Men’s Club invites all parishioners and guest to attend our weekly breakfast following the 8 a.m. Mass each Sunday morning in the social hall.
URL:https://stanthonysgvl.org/event/weekly-breakfast/2026-03-08/
LOCATION:Parish Social Hall\, 307 Gower St\, Greenville\, SC\, 29611\, United States
CATEGORIES:General
ATTACH;FMTTYPE=image/jpeg:https://stanthonysgvl.org/wp-content/uploads/2025/01/AdobeStock_407768548-scaled.jpeg
END:VEVENT
BEGIN:VEVENT
DTSTART;TZID=America/New_York:20260308T133000
DTEND;TZID=America/New_York:20260308T150000
DTSTAMP:20260425T185405
CREATED:20260303T164544Z
LAST-MODIFIED:20260303T164833Z
UID:10000704-1772976600-1772982000@stanthonysgvl.org
SUMMARY:Women's Council March Meeting
DESCRIPTION:Join us this Sunday\, March 8th for our Women’s Council meeting at 1:30 PM in the Multipurpose Room. All women of our parish are welcome to join!
URL:https://stanthonysgvl.org/event/womens-council-march-meeting/
LOCATION:SC
CATEGORIES:General,Highlight
ATTACH;FMTTYPE=image/webp:https://stanthonysgvl.org/wp-content/uploads/2026/02/Womens-Council-Meeting-MAR-2026.webp
END:VEVENT
END:VCALENDAR