BEGIN:VCALENDAR
VERSION:2.0
PRODID:-//St. Anthony of Padua Catholic Church - ECPv6.15.20//NONSGML v1.0//EN
CALSCALE:GREGORIAN
METHOD:PUBLISH
X-WR-CALNAME:St. Anthony of Padua Catholic Church
X-ORIGINAL-URL:https://stanthonysgvl.org
X-WR-CALDESC:Events for St. Anthony of Padua Catholic Church
REFRESH-INTERVAL;VALUE=DURATION:PT1H
X-Robots-Tag:noindex
X-PUBLISHED-TTL:PT1H
BEGIN:VTIMEZONE
TZID:America/New_York
BEGIN:DAYLIGHT
TZOFFSETFROM:-0500
TZOFFSETTO:-0400
TZNAME:EDT
DTSTART:20240310T070000
END:DAYLIGHT
BEGIN:STANDARD
TZOFFSETFROM:-0400
TZOFFSETTO:-0500
TZNAME:EST
DTSTART:20241103T060000
END:STANDARD
BEGIN:DAYLIGHT
TZOFFSETFROM:-0500
TZOFFSETTO:-0400
TZNAME:EDT
DTSTART:20250309T070000
END:DAYLIGHT
BEGIN:STANDARD
TZOFFSETFROM:-0400
TZOFFSETTO:-0500
TZNAME:EST
DTSTART:20251102T060000
END:STANDARD
BEGIN:DAYLIGHT
TZOFFSETFROM:-0500
TZOFFSETTO:-0400
TZNAME:EDT
DTSTART:20260308T070000
END:DAYLIGHT
BEGIN:STANDARD
TZOFFSETFROM:-0400
TZOFFSETTO:-0500
TZNAME:EST
DTSTART:20261101T060000
END:STANDARD
END:VTIMEZONE
BEGIN:VEVENT
DTSTART;TZID=America/New_York:20251101T083000
DTEND;TZID=America/New_York:20251101T103000
DTSTAMP:20260425T235414
CREATED:20251010T095519Z
LAST-MODIFIED:20251010T100043Z
UID:10000628-1761985800-1761993000@stanthonysgvl.org
SUMMARY:White Mass & Gathering for Healthcare Professionals
DESCRIPTION:Join us on Saturday\, November 1st at 8:30 AM for the annual White Mass and Gathering for Healthcare Professionals. \n  \nHoly Mass will be celebrated by Bishop Jacques at Saint Anthony of Padua Church in Greenville. All Catholics involved in healthcare are invited to attend this Mass and the address after the liturgy\, and a reception to follow in the Social Hall. Please click the following link to register in advance: Click Here to Register
URL:https://stanthonysgvl.org/event/white-mass-gathering-for-healthcare-professionals/
LOCATION:St. Anthony of Padua Catholic Church\, 309 Gower Street\, Greenville\, 29611\, United States
CATEGORIES:Highlight
ATTACH;FMTTYPE=image/webp:https://stanthonysgvl.org/wp-content/uploads/2025/10/White-Mass-1-November-2025.webp
END:VEVENT
BEGIN:VEVENT
DTSTART;TZID=America/New_York:20251102T091500
DTEND;TZID=America/New_York:20251102T100000
DTSTAMP:20260425T235414
CREATED:20250129T222513Z
LAST-MODIFIED:20260224T154443Z
UID:10000347-1762074900-1762077600@stanthonysgvl.org
SUMMARY:Weekly Breakfast
DESCRIPTION:The St. Anthonys Men’s Club invites all parishioners and guest to attend our weekly breakfast following the 8 a.m. Mass each Sunday morning in the social hall.
URL:https://stanthonysgvl.org/event/weekly-breakfast/2025-11-02/
LOCATION:Parish Social Hall\, 307 Gower St\, Greenville\, SC\, 29611\, United States
CATEGORIES:General
ATTACH;FMTTYPE=image/jpeg:https://stanthonysgvl.org/wp-content/uploads/2025/01/AdobeStock_407768548-scaled.jpeg
END:VEVENT
BEGIN:VEVENT
DTSTART;TZID=America/New_York:20251109T091500
DTEND;TZID=America/New_York:20251109T100000
DTSTAMP:20260425T235414
CREATED:20250129T222513Z
LAST-MODIFIED:20260224T154443Z
UID:10000348-1762679700-1762682400@stanthonysgvl.org
SUMMARY:Weekly Breakfast
DESCRIPTION:The St. Anthonys Men’s Club invites all parishioners and guest to attend our weekly breakfast following the 8 a.m. Mass each Sunday morning in the social hall.
URL:https://stanthonysgvl.org/event/weekly-breakfast/2025-11-09/
LOCATION:Parish Social Hall\, 307 Gower St\, Greenville\, SC\, 29611\, United States
CATEGORIES:General
ATTACH;FMTTYPE=image/jpeg:https://stanthonysgvl.org/wp-content/uploads/2025/01/AdobeStock_407768548-scaled.jpeg
END:VEVENT
BEGIN:VEVENT
DTSTART;TZID=America/New_York:20251116T091500
DTEND;TZID=America/New_York:20251116T100000
DTSTAMP:20260425T235414
CREATED:20250129T222513Z
LAST-MODIFIED:20260224T154443Z
UID:10000349-1763284500-1763287200@stanthonysgvl.org
SUMMARY:Weekly Breakfast
DESCRIPTION:The St. Anthonys Men’s Club invites all parishioners and guest to attend our weekly breakfast following the 8 a.m. Mass each Sunday morning in the social hall.
URL:https://stanthonysgvl.org/event/weekly-breakfast/2025-11-16/
LOCATION:Parish Social Hall\, 307 Gower St\, Greenville\, SC\, 29611\, United States
CATEGORIES:General
ATTACH;FMTTYPE=image/jpeg:https://stanthonysgvl.org/wp-content/uploads/2025/01/AdobeStock_407768548-scaled.jpeg
END:VEVENT
BEGIN:VEVENT
DTSTART;TZID=America/New_York:20251123T091500
DTEND;TZID=America/New_York:20251123T100000
DTSTAMP:20260425T235414
CREATED:20250129T222513Z
LAST-MODIFIED:20260224T154443Z
UID:10000350-1763889300-1763892000@stanthonysgvl.org
SUMMARY:Weekly Breakfast
DESCRIPTION:The St. Anthonys Men’s Club invites all parishioners and guest to attend our weekly breakfast following the 8 a.m. Mass each Sunday morning in the social hall.
URL:https://stanthonysgvl.org/event/weekly-breakfast/2025-11-23/
LOCATION:Parish Social Hall\, 307 Gower St\, Greenville\, SC\, 29611\, United States
CATEGORIES:General
ATTACH;FMTTYPE=image/jpeg:https://stanthonysgvl.org/wp-content/uploads/2025/01/AdobeStock_407768548-scaled.jpeg
END:VEVENT
BEGIN:VEVENT
DTSTART;TZID=America/New_York:20251130T091500
DTEND;TZID=America/New_York:20251130T100000
DTSTAMP:20260425T235414
CREATED:20250129T222513Z
LAST-MODIFIED:20260224T154443Z
UID:10000351-1764494100-1764496800@stanthonysgvl.org
SUMMARY:Weekly Breakfast
DESCRIPTION:The St. Anthonys Men’s Club invites all parishioners and guest to attend our weekly breakfast following the 8 a.m. Mass each Sunday morning in the social hall.
URL:https://stanthonysgvl.org/event/weekly-breakfast/2025-11-30/
LOCATION:Parish Social Hall\, 307 Gower St\, Greenville\, SC\, 29611\, United States
CATEGORIES:General
ATTACH;FMTTYPE=image/jpeg:https://stanthonysgvl.org/wp-content/uploads/2025/01/AdobeStock_407768548-scaled.jpeg
END:VEVENT
END:VCALENDAR