BEGIN:VCALENDAR
VERSION:2.0
PRODID:-//St. Anthony of Padua Catholic Church - ECPv6.15.20//NONSGML v1.0//EN
CALSCALE:GREGORIAN
METHOD:PUBLISH
X-WR-CALNAME:St. Anthony of Padua Catholic Church
X-ORIGINAL-URL:https://stanthonysgvl.org
X-WR-CALDESC:Events for St. Anthony of Padua Catholic Church
REFRESH-INTERVAL;VALUE=DURATION:PT1H
X-Robots-Tag:noindex
X-PUBLISHED-TTL:PT1H
BEGIN:VTIMEZONE
TZID:America/New_York
BEGIN:DAYLIGHT
TZOFFSETFROM:-0500
TZOFFSETTO:-0400
TZNAME:EDT
DTSTART:20240310T070000
END:DAYLIGHT
BEGIN:STANDARD
TZOFFSETFROM:-0400
TZOFFSETTO:-0500
TZNAME:EST
DTSTART:20241103T060000
END:STANDARD
BEGIN:DAYLIGHT
TZOFFSETFROM:-0500
TZOFFSETTO:-0400
TZNAME:EDT
DTSTART:20250309T070000
END:DAYLIGHT
BEGIN:STANDARD
TZOFFSETFROM:-0400
TZOFFSETTO:-0500
TZNAME:EST
DTSTART:20251102T060000
END:STANDARD
BEGIN:DAYLIGHT
TZOFFSETFROM:-0500
TZOFFSETTO:-0400
TZNAME:EDT
DTSTART:20260308T070000
END:DAYLIGHT
BEGIN:STANDARD
TZOFFSETFROM:-0400
TZOFFSETTO:-0500
TZNAME:EST
DTSTART:20261101T060000
END:STANDARD
END:VTIMEZONE
BEGIN:VEVENT
DTSTART;TZID=America/New_York:20250427T100000
DTEND;TZID=America/New_York:20250427T110000
DTSTAMP:20260425T234614
CREATED:20250417T190426Z
LAST-MODIFIED:20250417T190427Z
UID:10000624-1745748000-1745751600@stanthonysgvl.org
SUMMARY:Young Families Easter Egg Hunt & Potluck
DESCRIPTION:Please join us on Sunday\, April 27th after the 10 AM Mass on the playground for our annual Easter Egg Hunt & Potluck.\nReminder:\nPlease bring a basket & 10 filled eggs per child.\nWe look forward to seeing you there!
URL:https://stanthonysgvl.org/event/young-families-easter-egg-hunt-potluck/
LOCATION:Playground\, 307 Gower St\, Greenville\, SC\, 29611\, United States
CATEGORIES:Highlight
ATTACH;FMTTYPE=image/jpeg:https://stanthonysgvl.org/wp-content/uploads/2025/04/Easter-Egg-Hunt-Potluck.jpg
END:VEVENT
END:VCALENDAR