BEGIN:VCALENDAR
VERSION:2.0
PRODID:-//St. Anthony of Padua Catholic Church - ECPv6.15.20//NONSGML v1.0//EN
CALSCALE:GREGORIAN
METHOD:PUBLISH
X-WR-CALNAME:St. Anthony of Padua Catholic Church
X-ORIGINAL-URL:https://stanthonysgvl.org
X-WR-CALDESC:Events for St. Anthony of Padua Catholic Church
REFRESH-INTERVAL;VALUE=DURATION:PT1H
X-Robots-Tag:noindex
X-PUBLISHED-TTL:PT1H
BEGIN:VTIMEZONE
TZID:America/New_York
BEGIN:DAYLIGHT
TZOFFSETFROM:-0500
TZOFFSETTO:-0400
TZNAME:EDT
DTSTART:20240310T070000
END:DAYLIGHT
BEGIN:STANDARD
TZOFFSETFROM:-0400
TZOFFSETTO:-0500
TZNAME:EST
DTSTART:20241103T060000
END:STANDARD
BEGIN:DAYLIGHT
TZOFFSETFROM:-0500
TZOFFSETTO:-0400
TZNAME:EDT
DTSTART:20250309T070000
END:DAYLIGHT
BEGIN:STANDARD
TZOFFSETFROM:-0400
TZOFFSETTO:-0500
TZNAME:EST
DTSTART:20251102T060000
END:STANDARD
BEGIN:DAYLIGHT
TZOFFSETFROM:-0500
TZOFFSETTO:-0400
TZNAME:EDT
DTSTART:20260308T070000
END:DAYLIGHT
BEGIN:STANDARD
TZOFFSETFROM:-0400
TZOFFSETTO:-0500
TZNAME:EST
DTSTART:20261101T060000
END:STANDARD
BEGIN:DAYLIGHT
TZOFFSETFROM:-0500
TZOFFSETTO:-0400
TZNAME:EDT
DTSTART:20270314T070000
END:DAYLIGHT
BEGIN:STANDARD
TZOFFSETFROM:-0400
TZOFFSETTO:-0500
TZNAME:EST
DTSTART:20271107T060000
END:STANDARD
END:VTIMEZONE
BEGIN:VEVENT
DTSTART;TZID=America/New_York:20260327T180000
DTEND;TZID=America/New_York:20260327T190000
DTSTAMP:20260425T224129
CREATED:20260224T160550Z
LAST-MODIFIED:20260224T160722Z
UID:10000703-1774634400-1774638000@stanthonysgvl.org
SUMMARY:Stations of the Cross
DESCRIPTION:Join us on Fridays during Lent at 6:00 PM inside the Church for Stations of the Cross. This beautiful Lenten devotion invites us to prayerfully walk with Christ through His Passion and reflect on His love and sacrifice. \nAll parishioners and families are welcome to attend as we journey together through this sacred season.
URL:https://stanthonysgvl.org/event/stations-of-the-cross/2026-03-27/
LOCATION:St. Anthony of Padua Catholic Church\, 309 Gower Street\, Greenville\, 29611\, United States
CATEGORIES:General,Highlight
ATTACH;FMTTYPE=image/webp:https://stanthonysgvl.org/wp-content/uploads/2026/02/215-scaled-e1771949226768.webp
END:VEVENT
BEGIN:VEVENT
DTSTART;TZID=America/New_York:20260320T180000
DTEND;TZID=America/New_York:20260320T190000
DTSTAMP:20260425T224129
CREATED:20260224T160550Z
LAST-MODIFIED:20260224T160722Z
UID:10000702-1774029600-1774033200@stanthonysgvl.org
SUMMARY:Stations of the Cross
DESCRIPTION:Join us on Fridays during Lent at 6:00 PM inside the Church for Stations of the Cross. This beautiful Lenten devotion invites us to prayerfully walk with Christ through His Passion and reflect on His love and sacrifice. \nAll parishioners and families are welcome to attend as we journey together through this sacred season.
URL:https://stanthonysgvl.org/event/stations-of-the-cross/2026-03-20/
LOCATION:St. Anthony of Padua Catholic Church\, 309 Gower Street\, Greenville\, 29611\, United States
CATEGORIES:General,Highlight
ATTACH;FMTTYPE=image/webp:https://stanthonysgvl.org/wp-content/uploads/2026/02/215-scaled-e1771949226768.webp
END:VEVENT
BEGIN:VEVENT
DTSTART;TZID=America/New_York:20260313T180000
DTEND;TZID=America/New_York:20260313T190000
DTSTAMP:20260425T224129
CREATED:20260224T160550Z
LAST-MODIFIED:20260224T160722Z
UID:10000701-1773424800-1773428400@stanthonysgvl.org
SUMMARY:Stations of the Cross
DESCRIPTION:Join us on Fridays during Lent at 6:00 PM inside the Church for Stations of the Cross. This beautiful Lenten devotion invites us to prayerfully walk with Christ through His Passion and reflect on His love and sacrifice. \nAll parishioners and families are welcome to attend as we journey together through this sacred season.
URL:https://stanthonysgvl.org/event/stations-of-the-cross/2026-03-13/
LOCATION:St. Anthony of Padua Catholic Church\, 309 Gower Street\, Greenville\, 29611\, United States
CATEGORIES:General,Highlight
ATTACH;FMTTYPE=image/webp:https://stanthonysgvl.org/wp-content/uploads/2026/02/215-scaled-e1771949226768.webp
END:VEVENT
BEGIN:VEVENT
DTSTART;TZID=America/New_York:20260306T180000
DTEND;TZID=America/New_York:20260306T190000
DTSTAMP:20260425T224129
CREATED:20260224T160550Z
LAST-MODIFIED:20260224T160722Z
UID:10000700-1772820000-1772823600@stanthonysgvl.org
SUMMARY:Stations of the Cross
DESCRIPTION:Join us on Fridays during Lent at 6:00 PM inside the Church for Stations of the Cross. This beautiful Lenten devotion invites us to prayerfully walk with Christ through His Passion and reflect on His love and sacrifice. \nAll parishioners and families are welcome to attend as we journey together through this sacred season.
URL:https://stanthonysgvl.org/event/stations-of-the-cross/2026-03-06/
LOCATION:St. Anthony of Padua Catholic Church\, 309 Gower Street\, Greenville\, 29611\, United States
CATEGORIES:General,Highlight
ATTACH;FMTTYPE=image/webp:https://stanthonysgvl.org/wp-content/uploads/2026/02/215-scaled-e1771949226768.webp
END:VEVENT
BEGIN:VEVENT
DTSTART;TZID=America/New_York:20260227T180000
DTEND;TZID=America/New_York:20260227T190000
DTSTAMP:20260425T224129
CREATED:20260224T160550Z
LAST-MODIFIED:20260224T160722Z
UID:10000699-1772215200-1772218800@stanthonysgvl.org
SUMMARY:Stations of the Cross
DESCRIPTION:Join us on Fridays during Lent at 6:00 PM inside the Church for Stations of the Cross. This beautiful Lenten devotion invites us to prayerfully walk with Christ through His Passion and reflect on His love and sacrifice. \nAll parishioners and families are welcome to attend as we journey together through this sacred season.
URL:https://stanthonysgvl.org/event/stations-of-the-cross/2026-02-27/
LOCATION:St. Anthony of Padua Catholic Church\, 309 Gower Street\, Greenville\, 29611\, United States
CATEGORIES:General,Highlight
ATTACH;FMTTYPE=image/webp:https://stanthonysgvl.org/wp-content/uploads/2026/02/215-scaled-e1771949226768.webp
END:VEVENT
BEGIN:VEVENT
DTSTART;TZID=America/New_York:20260227T100000
DTEND;TZID=America/New_York:20260227T110000
DTSTAMP:20260425T224129
CREATED:20260224T155942Z
LAST-MODIFIED:20260224T155942Z
UID:10000698-1772186400-1772190000@stanthonysgvl.org
SUMMARY:Women's Monthly Rosary Walk
DESCRIPTION:Women’s Monthly Rosary Walk – all women of the parish are welcome!\nFriday\, February 27th\, 10:00am\nWe will walk from the Church parking lot to the statue of Mary. \nIn case of inclement weather\, we will meet in the church lobby.
URL:https://stanthonysgvl.org/event/womens-monthly-rosary-walk/
LOCATION:St. Anthony of Padua Catholic Church\, 309 Gower Street\, Greenville\, 29611\, United States
CATEGORIES:General
ATTACH;FMTTYPE=image/png:https://stanthonysgvl.org/wp-content/uploads/2026/02/February-Rosary-Walk.png
END:VEVENT
BEGIN:VEVENT
DTSTART;TZID=America/New_York:20251101T083000
DTEND;TZID=America/New_York:20251101T103000
DTSTAMP:20260425T224129
CREATED:20251010T095519Z
LAST-MODIFIED:20251010T100043Z
UID:10000628-1761985800-1761993000@stanthonysgvl.org
SUMMARY:White Mass & Gathering for Healthcare Professionals
DESCRIPTION:Join us on Saturday\, November 1st at 8:30 AM for the annual White Mass and Gathering for Healthcare Professionals. \n  \nHoly Mass will be celebrated by Bishop Jacques at Saint Anthony of Padua Church in Greenville. All Catholics involved in healthcare are invited to attend this Mass and the address after the liturgy\, and a reception to follow in the Social Hall. Please click the following link to register in advance: Click Here to Register
URL:https://stanthonysgvl.org/event/white-mass-gathering-for-healthcare-professionals/
LOCATION:St. Anthony of Padua Catholic Church\, 309 Gower Street\, Greenville\, 29611\, United States
CATEGORIES:Highlight
ATTACH;FMTTYPE=image/webp:https://stanthonysgvl.org/wp-content/uploads/2025/10/White-Mass-1-November-2025.webp
END:VEVENT
END:VCALENDAR